BEGIN:VCALENDAR
VERSION:2.0
PRODID:-ABConcerts-events
METHOD:PUBLISH
BEGIN:VEVENT
TRANSP:OPAQUE
DTSTART:20140507T200000
DTEND:20140507T223000
SUMMARY:The Temperance Movement + The River 68's
LOCATION:AB Club - staand (Anspachlaan 110\, 1000 Brussel)
DESCRIPTION:How The Faces\, CCR and Led Zep would sound in the year\n’14!
URL;VALUE=URI:https://www.abconcerts.be/en/agenda/the-temperance-movement-the-river-68s/a105J000001weCyQAI
UID:ABConcerts_event_a5240b3a-59a0-11eb-bece-5254eb761bff
SEQUENCE:0
DTSTAMP:20260423T002722Z
END:VEVENT
END:VCALENDAR
