BEGIN:VCALENDAR
VERSION:2.0
PRODID:-ABConcerts-events
METHOD:PUBLISH
BEGIN:VEVENT
TRANSP:OPAQUE
DTSTART:20151025T200000
DTEND:20151025T223000
SUMMARY:The Tallest Man On Earth
LOCATION:AB Grote zaal (Anspachlaan 110\, 1000 Brussel)
DESCRIPTION:Three times lucky: welcome back in AB!
URL;VALUE=URI:https://www.abconcerts.be/en/agenda/the-tallest-man-on-earth/a105J000001wdcQQAQ
UID:ABConcerts_event_528f464c-599f-11eb-a595-5254eb761bff
SEQUENCE:0
DTSTAMP:20260424T014126Z
END:VEVENT
END:VCALENDAR
