BEGIN:VCALENDAR
VERSION:2.0
PRODID:-ABConcerts-events
METHOD:PUBLISH
BEGIN:VEVENT
TRANSP:OPAQUE
DTSTART:20170118T200000
DTEND:20170118T223000
SUMMARY:The Scabs Unplugged Power Off - première
LOCATION:AB Theater (Anspachlaan 110\, 1000 Brussel)
DESCRIPTION:The Scabs’ very first theatre tour!
URL;VALUE=URI:https://www.abconcerts.be/en/agenda/the-scabs-unplugged-power-off-premiere/a105J000001wdV7QAI
UID:ABConcerts_event_c949c400-59a0-11eb-b762-5254eb761bff
SEQUENCE:0
DTSTAMP:20260423T064549Z
END:VEVENT
END:VCALENDAR
