BEGIN:VCALENDAR
VERSION:2.0
PRODID:-ABConcerts-events
METHOD:PUBLISH
BEGIN:VEVENT
TRANSP:OPAQUE
DTSTART:20160314T200000
DTEND:20160314T223000
SUMMARY:The Neighbourhood
LOCATION:AB Grote zaal (Anspachlaan 110\, 1000 Brussel)
DESCRIPTION:Dark-pop\, hip-hop & electronica in the blender on ‘Wiped\nOut’
URL;VALUE=URI:https://www.abconcerts.be/en/agenda/the-neighbourhood/a105J000001wdXmQAI
UID:ABConcerts_event_c5cfaf4c-59a0-11eb-85e0-5254eb761bff
SEQUENCE:0
DTSTAMP:20260424T041332Z
END:VEVENT
END:VCALENDAR
