BEGIN:VCALENDAR
VERSION:2.0
PRODID:-ABConcerts-events
METHOD:PUBLISH
BEGIN:VEVENT
TRANSP:OPAQUE
DTSTART:20180405T200000
DTEND:20180405T223000
SUMMARY:The Music of ‘Stranger Things’ by Kyle Dixon & Michael S
tein (S U R V I V E)
LOCATION:AB Grote zaal (Anspachlaan 110\, 1000 Brussel)
DESCRIPTION:BRDCST: The soundtrack to ‘Stranger Things’\, the most\npopular '80s sci-fi Netflix series
URL;VALUE=URI:https://www.abconcerts.be/en/agenda/the-music-of-stranger-things-by-kyle-dixon-michael-stein-s-u-r-v-i-v-e/a105J000001wdK0QAI
UID:ABConcerts_event_65b159f4-599f-11eb-9708-5254eb761bff
SEQUENCE:0
DTSTAMP:20260425T143338Z
END:VEVENT
END:VCALENDAR
