BEGIN:VCALENDAR
VERSION:2.0
PRODID:-ABConcerts-events
METHOD:PUBLISH
BEGIN:VEVENT
TRANSP:OPAQUE
DTSTART:20161015T200000
DTEND:20161015T223000
SUMMARY:The Leisure Society - acoustic trio concert
LOCATION:AB Salon - zittend (Steenstraat 11\, 1000 Brussel)
DESCRIPTION:British folk-rock stripped-down and acoustic
URL;VALUE=URI:https://www.abconcerts.be/en/agenda/the-leisure-society-acoustic-trio-concert/a105J000001wdSlQAI
UID:ABConcerts_event_9ed81c8a-59a0-11eb-86de-5254eb761bff
SEQUENCE:0
DTSTAMP:20260423T134235Z
END:VEVENT
END:VCALENDAR
