BEGIN:VCALENDAR
VERSION:2.0
PRODID:-ABConcerts-events
METHOD:PUBLISH
BEGIN:VEVENT
TRANSP:OPAQUE
DTSTART:20240314T190000
DTEND:20240314T223000
SUMMARY:The Gaslight Anthem
LOCATION:AB Grote zaal (Anspachlaan 110\, 1000 Brussel)
DESCRIPTION:Will be playing their new songs and all their greatest hits
URL;VALUE=URI:https://www.abconcerts.be/en/agenda/the-gaslight-anthem/a105J000008GBb3QAG
UID:ABConcerts_event_1ee5d138-b854-6fd0-a2e4-1f0131e451e5
SEQUENCE:0
DTSTAMP:20260425T185545Z
END:VEVENT
END:VCALENDAR
