BEGIN:VCALENDAR
VERSION:2.0
PRODID:-ABConcerts-events
METHOD:PUBLISH
BEGIN:VEVENT
TRANSP:OPAQUE
DTSTART:20130602T200000
DTEND:20130602T223000
SUMMARY:The Breeders play 'Last Splash' + Reiziger
LOCATION:AB Grote zaal (Anspachlaan 110\, 1000 Brussel)
DESCRIPTION:The Breeders play their classic in its entirety.
URL;VALUE=URI:https://www.abconcerts.be/en/agenda/the-breeders-play-last-splash-reiziger/a105J000001wdzYQAQ
UID:ABConcerts_event_9d04a1b2-59a0-11eb-a3a0-5254eb761bff
SEQUENCE:0
DTSTAMP:20260419T180951Z
END:VEVENT
END:VCALENDAR
