BEGIN:VCALENDAR
VERSION:2.0
PRODID:-ABConcerts-events
METHOD:PUBLISH
BEGIN:VEVENT
TRANSP:OPAQUE
DTSTART:20130625T200000
DTEND:20130625T223000
SUMMARY:The Black Crowes
LOCATION:AB Grote zaal (Anspachlaan 110\, 1000 Brussel)
DESCRIPTION:The Most Rock n' Roll Rock n' Roll Band In The World
URL;VALUE=URI:https://www.abconcerts.be/en/agenda/the-black-crowes/a105J000001wgqqQAA
UID:ABConcerts_event_23a1b68e-59a0-11eb-ae56-5254eb761bff
SEQUENCE:0
DTSTAMP:20260419T192228Z
END:VEVENT
END:VCALENDAR
