BEGIN:VCALENDAR
VERSION:2.0
PRODID:-ABConcerts-events
METHOD:PUBLISH
BEGIN:VEVENT
TRANSP:OPAQUE
DTSTART:20200909T200000
DTEND:20200909T223000
SUMMARY:Tessa Dixson
LOCATION:AB Box (Anspachlaan 110\, 1000 Brussel)
DESCRIPTION:New date: 13/03/2021
URL;VALUE=URI:https://www.abconcerts.be/en/agenda/tessa-dixson/a105J000001wh08QAA
UID:ABConcerts_event_cab99e60-599f-11eb-9856-5254eb761bff
SEQUENCE:0
DTSTAMP:20260422T011930Z
END:VEVENT
END:VCALENDAR
