BEGIN:VCALENDAR
VERSION:2.0
PRODID:-ABConcerts-events
METHOD:PUBLISH
BEGIN:VEVENT
TRANSP:OPAQUE
DTSTART:20161023T200000
DTEND:20161023T223000
SUMMARY:Syndrome - 'Forever and a Day'
LOCATION:AB Club - staand (Anspachlaan 110\, 1000 Brussel)
DESCRIPTION:Amenra’s guitarist/songsmith presents melancholy gem
URL;VALUE=URI:https://www.abconcerts.be/en/agenda/syndrome-forever-and-a-day/a105J000001wdSdQAI
UID:ABConcerts_event_9bc861e4-59a0-11eb-a172-5254eb761bff
SEQUENCE:0
DTSTAMP:20260422T100648Z
END:VEVENT
END:VCALENDAR
