BEGIN:VCALENDAR
VERSION:2.0
PRODID:-ABConcerts-events
METHOD:PUBLISH
BEGIN:VEVENT
TRANSP:OPAQUE
DTSTART:20221117T190000
DTEND:20221117T223000
SUMMARY:Suzane
LOCATION:AB Ballroom (Anspachlaan 110\, 1000 Brussel)
DESCRIPTION:A unifying and moving energy
URL;VALUE=URI:https://www.abconcerts.be/en/agenda/suzane/a105J000005HgKNQA0
UID:ABConcerts_event_2ca279fa-c4a0-11ec-9f8a-5254eb761bff
SEQUENCE:0
DTSTAMP:20260422T122410Z
END:VEVENT
END:VCALENDAR
