BEGIN:VCALENDAR
VERSION:2.0
PRODID:-ABConcerts-events
METHOD:PUBLISH
BEGIN:VEVENT
TRANSP:OPAQUE
DTSTART:20170825T120000
DTEND:20170825T140000
SUMMARY:Stephanie Struijk en De Mens
LOCATION:Het Warandepark (Warandepark\, 1000 Brussels)
DESCRIPTION:Dutch globetrotter & the planet Mens!
URL;VALUE=URI:https://www.abconcerts.be/en/agenda/stephanie-struijk-en-de-mens/a105J000001wgy5QAA
UID:ABConcerts_event_96bb4696-599e-11eb-9e0e-5254eb761bff
SEQUENCE:0
DTSTAMP:20260426T023037Z
END:VEVENT
END:VCALENDAR
