BEGIN:VCALENDAR
VERSION:2.0
PRODID:-ABConcerts-events
METHOD:PUBLISH
BEGIN:VEVENT
TRANSP:OPAQUE
DTSTART:20130922T140000
DTEND:20130922T190000
SUMMARY:Steenstraat Muziekstraat - Autoloze Zondag
LOCATION:AB Salon - zittend (Steenstraat 11\, 1000 Brussel)
DESCRIPTION:Artists take over the buildings in the Steenstraat.
URL;VALUE=URI:https://www.abconcerts.be/en/agenda/steenstraat-muziekstraat-autoloze-zondag/a105J000001wgsKQAQ
UID:ABConcerts_event_b6d48122-599e-11eb-8aba-5254eb761bff
SEQUENCE:0
DTSTAMP:20260419T222347Z
END:VEVENT
END:VCALENDAR
