BEGIN:VCALENDAR
VERSION:2.0
PRODID:-ABConcerts-events
METHOD:PUBLISH
BEGIN:VEVENT
TRANSP:OPAQUE
DTSTART:20141026T203000
DTEND:20141026T220000
SUMMARY:Spring Offensive
LOCATION:AB Salon - zittend (Steenstraat 11\, 1000 Brussel)
DESCRIPTION:In the list Dog Is Dead\, Bastille and To Kill A King!
URL;VALUE=URI:https://www.abconcerts.be/en/agenda/spring-offensive/a105J000001wgveQAA
UID:ABConcerts_event_42f59e60-59a0-11eb-9b37-5254eb761bff
SEQUENCE:0
DTSTAMP:20260423T061646Z
END:VEVENT
END:VCALENDAR
