BEGIN:VCALENDAR
VERSION:2.0
PRODID:-ABConcerts-events
METHOD:PUBLISH
BEGIN:VEVENT
TRANSP:OPAQUE
DTSTART:20140118T200000
DTEND:20140118T223000
SUMMARY:Son Lux + Sunday Bell Ringers
LOCATION:AB Club - staand (Anspachlaan 110\, 1000 Brussel)
DESCRIPTION:Record of the year from Sufjan Stevens favourite
URL;VALUE=URI:https://www.abconcerts.be/en/agenda/son-lux-sunday-bell-ringers/a105J000001weCQQAY
UID:ABConcerts_event_e54b68de-59a0-11eb-a6ed-5254eb761bff
SEQUENCE:0
DTSTAMP:20260420T084956Z
END:VEVENT
END:VCALENDAR
