BEGIN:VCALENDAR
VERSION:2.0
PRODID:-ABConcerts-events
METHOD:PUBLISH
BEGIN:VEVENT
TRANSP:OPAQUE
DTSTART:20250225T190000
DTEND:20250225T223000
SUMMARY:Sloper
LOCATION:AB Club - staand (Anspachlaan 110\, 1000 Brussel)
DESCRIPTION:New album ‘Changing Colors’
URL;VALUE=URI:https://www.abconcerts.be/en/agenda/sloper/a10Qw000003dHtiIAE
UID:ABConcerts_event_1ef86e8d-4a4b-6b2e-b6ac-a7d3eae19b19
SEQUENCE:0
DTSTAMP:20260419T155258Z
END:VEVENT
END:VCALENDAR
