BEGIN:VCALENDAR
VERSION:2.0
PRODID:-ABConcerts-events
METHOD:PUBLISH
BEGIN:VEVENT
TRANSP:OPAQUE
DTSTART:20160425T200000
DTEND:20160425T223000
SUMMARY:Sirius Plan: New Date
LOCATION:AB Club - staand (Anspachlaan 110\, 1000 Brussel)
DESCRIPTION:Sirius Plan is a Free\, Wild and Refined Trio.
URL;VALUE=URI:https://www.abconcerts.be/en/agenda/sirius-plan-new-date/a105J000001wdWyQAI
UID:ABConcerts_event_b392ddc2-59a0-11eb-885d-5254eb761bff
SEQUENCE:0
DTSTAMP:20260423T211833Z
END:VEVENT
END:VCALENDAR
