BEGIN:VCALENDAR
VERSION:2.0
PRODID:-ABConcerts-events
METHOD:PUBLISH
BEGIN:VEVENT
TRANSP:OPAQUE
DTSTART:20140930T200000
DTEND:20140930T223000
SUMMARY:Sinead O'Connor
LOCATION:AB Grote zaal (Anspachlaan 110\, 1000 Brussel)
DESCRIPTION:Nothing compares to... the not bossy Sinéad
URL;VALUE=URI:https://www.abconcerts.be/en/agenda/sinead-oconnor/a105J000001wgv3QAA
UID:ABConcerts_event_38d9c3a2-59a0-11eb-9d52-5254eb761bff
SEQUENCE:0
DTSTAMP:20260423T045257Z
END:VEVENT
END:VCALENDAR
