BEGIN:VCALENDAR
VERSION:2.0
PRODID:-ABConcerts-events
METHOD:PUBLISH
BEGIN:VEVENT
TRANSP:OPAQUE
DTSTART:20140518T200000
DTEND:20140518T223000
SUMMARY:Sharon Jones & The Dap-Kings
LOCATION:AB Grote zaal (Anspachlaan 110\, 1000 Brussel)
DESCRIPTION:100% first-rate vintage soul/funk.
URL;VALUE=URI:https://www.abconcerts.be/en/agenda/sharon-jones-the-dap-kings/a105J000001we5FQAQ
UID:ABConcerts_event_96cc8062-59a0-11eb-b510-5254eb761bff
SEQUENCE:0
DTSTAMP:20260423T003147Z
END:VEVENT
END:VCALENDAR
