BEGIN:VCALENDAR
VERSION:2.0
PRODID:-ABConcerts-events
METHOD:PUBLISH
BEGIN:VEVENT
TRANSP:OPAQUE
DTSTART:20151105T193000
DTEND:20151105T223000
SUMMARY:Screening: The Punk Singer - Kathleen Hanna
LOCATION:AB Salon - zittend (Steenstraat 11\, 1000 Brussel)
DESCRIPTION:Intimate portrait of this American feminist/artiest
URL;VALUE=URI:https://www.abconcerts.be/en/agenda/screening-the-punk-singer-kathleen-hanna/a105J000001wdYtQAI
UID:ABConcerts_event_9d430fba-59a0-11eb-a19f-5254eb761bff
SEQUENCE:0
DTSTAMP:20260424T031059Z
END:VEVENT
END:VCALENDAR
