BEGIN:VCALENDAR
VERSION:2.0
PRODID:-ABConcerts-events
METHOD:PUBLISH
BEGIN:VEVENT
TRANSP:OPAQUE
DTSTART:20170404T200000
DTEND:20170404T223000
SUMMARY:Rejjie Snow
LOCATION:AB Club - staand (Anspachlaan 110\, 1000 Brussel)
DESCRIPTION:Dublin’s best rapper ever debuts with highly anticipated\n'Dear Annie'
URL;VALUE=URI:https://www.abconcerts.be/en/agenda/rejjie-snow/a105J000001wdQmQAI
UID:ABConcerts_event_a857448e-59a0-11eb-9e1f-5254eb761bff
SEQUENCE:0
DTSTAMP:20260423T004942Z
END:VEVENT
END:VCALENDAR
