BEGIN:VCALENDAR
VERSION:2.0
PRODID:-ABConcerts-events
METHOD:PUBLISH
BEGIN:VEVENT
TRANSP:OPAQUE
DTSTART:20250531T170000
DTEND:20250531T220000
SUMMARY:REB'ELLE RHYTHMS
LOCATION:AB Club - staand (Anspachlaan 110\, 1000 Brussel)
DESCRIPTION:REB'ELLE takes over AB club
URL;VALUE=URI:https://www.abconcerts.be/en/agenda/rebelle-rhythms/a10Qw000009j3RDIAY
UID:ABConcerts_event_1f024077-d009-6caa-aba4-d7768f2af685
SEQUENCE:0
DTSTAMP:20260422T140150Z
END:VEVENT
END:VCALENDAR
