BEGIN:VCALENDAR
VERSION:2.0
PRODID:-ABConcerts-events
METHOD:PUBLISH
BEGIN:VEVENT
TRANSP:OPAQUE
DTSTART:20170825T190000
DTEND:20170825T235500
SUMMARY:Príncipe Label Night feat. DJ Marfox + Nidia Minaj + DJ Nig
ga Fox
LOCATION:Het Warandepark (Warandepark\, 1000 Brussels)
DESCRIPTION:Quick-tempered global sounds electronica from the ghettos of\nLisbon
URL;VALUE=URI:https://www.abconcerts.be/en/agenda/principe-label-night-feat-dj-marfox-nidia-minaj-dj-nigga-fox/a105J000001wdNYQAY
UID:ABConcerts_event_41683db0-599f-11eb-aab4-5254eb761bff
SEQUENCE:0
DTSTAMP:20260421T212202Z
END:VEVENT
END:VCALENDAR
