BEGIN:VCALENDAR
VERSION:2.0
PRODID:-ABConcerts-events
METHOD:PUBLISH
BEGIN:VEVENT
TRANSP:OPAQUE
DTSTART:20150522T200000
DTEND:20150522T223000
SUMMARY:Portico (formerly Portico Quartet)
LOCATION:AB Box (Anspachlaan 110\, 1000 Brussel)
DESCRIPTION:Think: James Blake\, The xx or closer at home Vuurwerk
URL;VALUE=URI:https://www.abconcerts.be/en/agenda/portico-formerly-portico-quartet/a105J000001wdlQQAQ
UID:ABConcerts_event_971b6e3e-59a0-11eb-99d5-5254eb761bff
SEQUENCE:0
DTSTAMP:20260423T182406Z
END:VEVENT
END:VCALENDAR
