BEGIN:VCALENDAR
VERSION:2.0
PRODID:-ABConcerts-events
METHOD:PUBLISH
BEGIN:VEVENT
TRANSP:OPAQUE
DTSTART:20180323T200000
DTEND:20180323T223000
SUMMARY:Phoenix
LOCATION:AB Grote zaal (Anspachlaan 110\, 1000 Brussel)
DESCRIPTION:Because of a change in the tour schedule\, Phoenix needs to\npostpone their concert\, which was originally planned on 22\nMarch at Forest National\, until Friday 23 March at the\nAncienne Belgique in Brussels !
URL;VALUE=URI:https://www.abconcerts.be/en/agenda/phoenix/a105J000001wdHgQAI
UID:ABConcerts_event_78c98cf4-59a0-11eb-b5e0-5254eb761bff
SEQUENCE:0
DTSTAMP:20260419T234517Z
END:VEVENT
END:VCALENDAR
