BEGIN:VCALENDAR
VERSION:2.0
PRODID:-ABConcerts-events
METHOD:PUBLISH
BEGIN:VEVENT
TRANSP:OPAQUE
DTSTART:20130624T200000
DTEND:20130624T223000
SUMMARY:Patti Smith
LOCATION:AB Grote zaal (Anspachlaan 110\, 1000 Brussel)
DESCRIPTION:Warning: Smoking Ban inspectionSince 1 January 2006 it has\nno longer been permitted to smoke in public places\, so not\nin AB either. After consultation between AB and the Federal\nDepartment of Public Health\, Food-Chain Safety and the\nEnvironment\, there will be a number of inspections carried\nout in the AB over the coming months by the Public Health\ndepartment.    Warning: maximum 4 tickets per order and per\nperson!
URL;VALUE=URI:https://www.abconcerts.be/en/agenda/patti-smith/a105J000001wgq0QAA
UID:ABConcerts_event_7dcb234e-599f-11eb-b9f4-5254eb761bff
SEQUENCE:0
DTSTAMP:20260419T192028Z
END:VEVENT
END:VCALENDAR
