BEGIN:VCALENDAR
VERSION:2.0
PRODID:-ABConcerts-events
METHOD:PUBLISH
BEGIN:VEVENT
TRANSP:OPAQUE
DTSTART:20150329T120000
DTEND:20150329T180000
SUMMARY:Passa Porta festival
LOCATION:AB Complex (Anspachlaan 110\, 1000 Brussel)
DESCRIPTION:Literary festival
URL;VALUE=URI:https://www.abconcerts.be/en/agenda/passa-porta-festival/a105J000001wdjhQAA
UID:ABConcerts_event_86aebbc8-59a0-11eb-9073-5254eb761bff
SEQUENCE:0
DTSTAMP:20260423T134154Z
END:VEVENT
END:VCALENDAR
