BEGIN:VCALENDAR
VERSION:2.0
PRODID:-ABConcerts-events
METHOD:PUBLISH
BEGIN:VEVENT
TRANSP:OPAQUE
DTSTART:20161113T200000
DTEND:20161113T223000
SUMMARY:Panic! At The Disco
LOCATION:AB Grote zaal (Anspachlaan 110\, 1000 Brussel)
DESCRIPTION:Back from never been gone ‘Death Of A Bachelor’!
URL;VALUE=URI:https://www.abconcerts.be/en/agenda/panic-at-the-disco/a105J000001wdV0QAI
UID:ABConcerts_event_c2b51ffe-59a0-11eb-95e5-5254eb761bff
SEQUENCE:0
DTSTAMP:20260423T102721Z
END:VEVENT
END:VCALENDAR
