BEGIN:VCALENDAR
VERSION:2.0
PRODID:-ABConcerts-events
METHOD:PUBLISH
BEGIN:VEVENT
TRANSP:OPAQUE
DTSTART:20141020T200000
DTEND:20141020T223000
SUMMARY:Orquesta Buena Vista Social Club ® ‘Adios Tour’ featuri
ng Omara Portuondo, Guajiro Mirabal, Barbarito Torres, Jesus
 ‘Aguaje’ Ramos
LOCATION:AB Grote zaal (Anspachlaan 110\, 1000 Brussel)
DESCRIPTION:After more than 20\,000 AB visitors: the ultimate farewell.
URL;VALUE=URI:https://www.abconcerts.be/en/agenda/orquesta-buena-vista-social-club-adios-tour-featuring-omara-portuondo-guajiro-mirabal-barbarito-torres-jesus-aguaje-ramos/a105J000001wguZQAQ
UID:ABConcerts_event_781d2c54-599e-11eb-9deb-5254eb761bff
SEQUENCE:0
DTSTAMP:20260423T044006Z
END:VEVENT
END:VCALENDAR
