BEGIN:VCALENDAR
VERSION:2.0
PRODID:-ABConcerts-events
METHOD:PUBLISH
BEGIN:VEVENT
TRANSP:OPAQUE
DTSTART:20151105T200000
DTEND:20151105T223000
SUMMARY:Oh Wonder
LOCATION:AB Club - staand (Anspachlaan 110\, 1000 Brussel)
DESCRIPTION:Enchanting indietronica\, following London Grammar & The xx!
URL;VALUE=URI:https://www.abconcerts.be/en/agenda/oh-wonder/a105J000001wdajQAA
UID:ABConcerts_event_546dac92-599f-11eb-bf46-5254eb761bff
SEQUENCE:0
DTSTAMP:20260424T030040Z
END:VEVENT
END:VCALENDAR
