BEGIN:VCALENDAR
VERSION:2.0
PRODID:-ABConcerts-events
METHOD:PUBLISH
BEGIN:VEVENT
TRANSP:OPAQUE
DTSTART:20260303T190000
DTEND:20260303T223000
SUMMARY:Of Monsters and Men
LOCATION:AB Grote zaal (Anspachlaan 110\, 1000 Brussel)
DESCRIPTION:Of Monsters and Men
URL;VALUE=URI:https://www.abconcerts.be/en/agenda/of-monsters-and-men/a10Qw000009Hx4wIAC
UID:ABConcerts_event_1f088b8a-2518-6aee-9a35-919a10135848
SEQUENCE:0
DTSTAMP:20260426T055348Z
END:VEVENT
END:VCALENDAR
