BEGIN:VCALENDAR
VERSION:2.0
PRODID:-ABConcerts-events
METHOD:PUBLISH
BEGIN:VEVENT
TRANSP:OPAQUE
DTSTART:20240921T200000
DTEND:20240922T023000
SUMMARY:Noannaos Night
LOCATION:AB Club - staand (Anspachlaan 110\, 1000 Brussel)
DESCRIPTION:Een fusie van club- en concertervaringen gecureerd door\nNoannaos
URL;VALUE=URI:https://www.abconcerts.be/en/agenda/noannaos-night/a105J0000071H7gQAE
UID:ABConcerts_event_1ef3de74-827d-605e-a412-eff1719f81ae
SEQUENCE:0
DTSTAMP:20260422T072319Z
END:VEVENT
END:VCALENDAR
