BEGIN:VCALENDAR
VERSION:2.0
PRODID:-ABConcerts-events
METHOD:PUBLISH
BEGIN:VEVENT
TRANSP:OPAQUE
DTSTART:20160319T200000
DTEND:20160319T230000
SUMMARY:Nicola Testa
LOCATION:AB Grote zaal (Anspachlaan 110\, 1000 Brussel)
DESCRIPTION:Simon Le Saint        Simon was behind the decks at most\naftershow parties all around the world and shared the decks\nwith some of his peers including DJ Premier\, Jazzy Jeff\,\nPete Rock\, Felix Da Housecat\, Kenny Dope\, Lil Louis\,\nKerri Chandler\, Miguel Campbell\, Aeroplane\, Dimitri From\nParis and John Morales to name a few. His new project is a\nstep forward in his producer and composer career with a solo\nalbum coming with a string of featured artists from all over\nthe world. “ For the first time of my life I decided to\nconcentrate on my own songs and ideas. I’m a sucker for\nmelodic pop and a huge Beach Boys and Michael Jackson fan.\n“ But when it comes to DJ\, Simon has a unique capacity to\nblend housy fat bass lines with pop melodies and obscure\ngems coming from his huge record collection.
URL;VALUE=URI:https://www.abconcerts.be/en/agenda/nicola-testa/a105J000001wdZCQAY
UID:ABConcerts_event_a094a5de-59a0-11eb-b210-5254eb761bff
SEQUENCE:0
DTSTAMP:20260424T030844Z
END:VEVENT
END:VCALENDAR
