BEGIN:VCALENDAR
VERSION:2.0
PRODID:-ABConcerts-events
METHOD:PUBLISH
BEGIN:VEVENT
TRANSP:OPAQUE
DTSTART:20220915T200000
DTEND:20220915T223000
SUMMARY:New date/New venue: Jaga Jazzist
LOCATION:Externe Locatie (unknown\, 1000 Brussel)
DESCRIPTION:Tickets stay valid for the new date in the new venue. The\nSNCB &amp; STIB mobility codes on your ticket can&#39;t be\nused anymore.QUESTIONS? Mail to: info@hetdepot.be
URL;VALUE=URI:https://www.abconcerts.be/en/agenda/new-datenew-venue-jaga-jazzist/a105J000001wd29QAA
UID:ABConcerts_event_ded7227e-599e-11eb-8bb8-5254eb761bff
SEQUENCE:0
DTSTAMP:20260420T100336Z
END:VEVENT
END:VCALENDAR
