BEGIN:VCALENDAR
VERSION:2.0
PRODID:-ABConcerts-events
METHOD:PUBLISH
BEGIN:VEVENT
TRANSP:OPAQUE
DTSTART:20150928T190000
DTEND:20150928T223000
SUMMARY:Morrissey
LOCATION:AB Grote zaal (Anspachlaan 110\, 1000 Brussel)
DESCRIPTION:
URL;VALUE=URI:https://www.abconcerts.be/en/agenda/morrissey/a105J000001wda3QAA
UID:ABConcerts_event_51222932-599f-11eb-bd78-5254eb761bff
SEQUENCE:0
DTSTAMP:20260424T173837Z
END:VEVENT
END:VCALENDAR
