BEGIN:VCALENDAR
VERSION:2.0
PRODID:-ABConcerts-events
METHOD:PUBLISH
BEGIN:VEVENT
TRANSP:OPAQUE
DTSTART:20140422T200000
DTEND:20140422T223000
SUMMARY:Moriarty
LOCATION:AB Club - staand (Anspachlaan 110\, 1000 Brussel)
DESCRIPTION:country noir covers à la Alan Lomax
URL;VALUE=URI:https://www.abconcerts.be/en/agenda/moriarty/a105J000001we3nQAA
UID:ABConcerts_event_895579fc-59a0-11eb-9fb1-5254eb761bff
SEQUENCE:0
DTSTAMP:20260422T212744Z
END:VEVENT
END:VCALENDAR
