BEGIN:VCALENDAR
VERSION:2.0
PRODID:-ABConcerts-events
METHOD:PUBLISH
BEGIN:VEVENT
TRANSP:OPAQUE
DTSTART:20150423T201500
DTEND:20150423T223000
SUMMARY:Moriarty @ Flagey
LOCATION:Externe Locatie (unknown\, 1000 Brussel)
DESCRIPTION:Moriarty is a fine French-American roots-chanson ensemble\nthat now effortlessly fills any venue. They do so with\ncountry noir\, murder ballads\, melancholy songs and other\nwonderful harmonies. Listen and shiver\, enjoy all that\ndespair (and that outstanding voice à la Natalie Merchant).\n                This concert takes place at Flagey. Tickets\nvia Flagey: http://www.flagey.be/en/programma/16692/moriarty
URL;VALUE=URI:https://www.abconcerts.be/en/agenda/moriarty-flagey/a105J000001wdkaQAA
UID:ABConcerts_event_8f74f8a8-59a0-11eb-9287-5254eb761bff
SEQUENCE:0
DTSTAMP:20260423T164845Z
END:VEVENT
END:VCALENDAR
