BEGIN:VCALENDAR
VERSION:2.0
PRODID:-ABConcerts-events
METHOD:PUBLISH
BEGIN:VEVENT
TRANSP:OPAQUE
DTSTART:20260327T190000
DTEND:20260327T223000
SUMMARY:Mister Cover
LOCATION:AB Grote zaal (Anspachlaan 110\, 1000 Brussel)
DESCRIPTION:Greatest hits\, live energy!
URL;VALUE=URI:https://www.abconcerts.be/en/agenda/mister-cover/a10Qw000004mrpNIAQ
UID:ABConcerts_event_1f003dda-a09e-6e62-afe7-67f9b28f82a4
SEQUENCE:0
DTSTAMP:20260422T110323Z
END:VEVENT
END:VCALENDAR
