BEGIN:VCALENDAR
VERSION:2.0
PRODID:-ABConcerts-events
METHOD:PUBLISH
BEGIN:VEVENT
TRANSP:OPAQUE
DTSTART:20180426T200000
DTEND:20180426T223000
SUMMARY:Millionaire
LOCATION:AB Ballroom (Anspachlaan 110\, 1000 Brussel)
DESCRIPTION:Millionaire is back with the rather demonic ‘Sciencing’!
URL;VALUE=URI:https://www.abconcerts.be/en/agenda/millionaire/a105J000001wdKcQAI
UID:ABConcerts_event_61c70e60-599f-11eb-951b-5254eb761bff
SEQUENCE:0
DTSTAMP:20260425T200906Z
END:VEVENT
END:VCALENDAR
