BEGIN:VCALENDAR
VERSION:2.0
PRODID:-ABConcerts-events
METHOD:PUBLISH
BEGIN:VEVENT
TRANSP:OPAQUE
DTSTART:20170311T200000
DTEND:20170311T223000
SUMMARY:Midori Hirano + Benoit Pioulard
LOCATION:AB Salon - zittend (Steenstraat 11\, 1000 Brussel)
DESCRIPTION:Double bill with two exciting\, contemporary composers
URL;VALUE=URI:https://www.abconcerts.be/en/agenda/midori-hirano-benoit-pioulard/a105J000001wdPcQAI
UID:ABConcerts_event_92cf3c66-59a0-11eb-9336-5254eb761bff
SEQUENCE:0
DTSTAMP:20260423T035001Z
END:VEVENT
END:VCALENDAR
