BEGIN:VCALENDAR
VERSION:2.0
PRODID:-ABConcerts-events
METHOD:PUBLISH
BEGIN:VEVENT
TRANSP:OPAQUE
DTSTART:20240502T190000
DTEND:20240502T223000
SUMMARY:Melts
LOCATION:AB Club - staand (Anspachlaan 110\, 1000 Brussel)
DESCRIPTION:Post-psychedelic\, post-punk\, kraut-inspired band for the\nnew generation
URL;VALUE=URI:https://www.abconcerts.be/en/agenda/melts/a10Qw0000002LJhIAM
UID:ABConcerts_event_1eeb92fe-f45b-6f96-bb55-63b91857ffba
SEQUENCE:0
DTSTAMP:20260422T103558Z
END:VEVENT
END:VCALENDAR
