BEGIN:VCALENDAR
VERSION:2.0
PRODID:-ABConcerts-events
METHOD:PUBLISH
BEGIN:VEVENT
TRANSP:OPAQUE
DTSTART:20131222T200000
DTEND:20131222T223000
SUMMARY:Melanie De Biasio
LOCATION:AB Theater (Anspachlaan 110\, 1000 Brussel)
DESCRIPTION:Belgian. Unique. Nina Simone meets The Cinematic Orchestra.
URL;VALUE=URI:https://www.abconcerts.be/en/agenda/melanie-de-biasio/a105J000001wgrrQAA
UID:ABConcerts_event_1c7ec7f2-59a0-11eb-938b-5254eb761bff
SEQUENCE:0
DTSTAMP:20260420T084807Z
END:VEVENT
END:VCALENDAR
