BEGIN:VCALENDAR
VERSION:2.0
PRODID:-ABConcerts-events
METHOD:PUBLISH
BEGIN:VEVENT
TRANSP:OPAQUE
DTSTART:20171217T200000
DTEND:20171217T223000
SUMMARY:Melanie De Biasio presents 'Lilies'
LOCATION:AB Flex (Anspachlaan 110\, 1000 Brussel)
DESCRIPTION:Biggest Melanie fans so far: Gilles Peterson\, Eels and\nPhilip Selway (Radiohead)
URL;VALUE=URI:https://www.abconcerts.be/en/agenda/melanie-de-biasio-presents-lilies/a105J000001wdMXQAY
UID:ABConcerts_event_e79be4ba-59a0-11eb-998e-5254eb761bff
SEQUENCE:0
DTSTAMP:20260420T041947Z
END:VEVENT
END:VCALENDAR
