BEGIN:VCALENDAR
VERSION:2.0
PRODID:-ABConcerts-events
METHOD:PUBLISH
BEGIN:VEVENT
TRANSP:OPAQUE
DTSTART:20170622T200000
DTEND:20170622T223000
SUMMARY:Me First and the Gimme Gimmes - 'The Greatestest Hits'!
LOCATION:AB Box (Anspachlaan 110\, 1000 Brussel)
DESCRIPTION:A ‘greatestest hits’ album always requires an even\ngreatestestere punk rock tour!
URL;VALUE=URI:https://www.abconcerts.be/en/agenda/me-first-and-the-gimme-gimmes-the-greatestest-hits/a105J000001wdOgQAI
UID:ABConcerts_event_e149b7ce-599e-11eb-8e3e-5254eb761bff
SEQUENCE:0
DTSTAMP:20260422T113638Z
END:VEVENT
END:VCALENDAR
