BEGIN:VCALENDAR
VERSION:2.0
PRODID:-ABConcerts-events
METHOD:PUBLISH
BEGIN:VEVENT
TRANSP:OPAQUE
DTSTART:20140520T193000
DTEND:20140520T223000
SUMMARY:MAYHEM - 30th anniversary Tour + Merrimack + Saille
LOCATION:AB Box (Anspachlaan 110\, 1000 Brussel)
DESCRIPTION:Legendary Norwegian black metal band celebrates 30 years.
URL;VALUE=URI:https://www.abconcerts.be/en/agenda/mayhem-30th-anniversary-tour-merrimack-saille/a105J000001we5GQAQ
UID:ABConcerts_event_96d5be02-59a0-11eb-a8bb-5254eb761bff
SEQUENCE:0
DTSTAMP:20260423T003131Z
END:VEVENT
END:VCALENDAR
