BEGIN:VCALENDAR
VERSION:2.0
PRODID:-ABConcerts-events
METHOD:PUBLISH
BEGIN:VEVENT
TRANSP:OPAQUE
DTSTART:20250306T190000
DTEND:20250306T223000
SUMMARY:Max Cooper
LOCATION:AB Grote zaal (Anspachlaan 110\, 1000 Brussel)
DESCRIPTION:3D/AV Live show by Irish audiovisual artist
URL;VALUE=URI:https://www.abconcerts.be/en/agenda/max-cooper/a10Qw000000zfe9IAA
UID:ABConcerts_event_1ef2ca1d-3fc2-6870-a9f6-33c9a4d14bac
SEQUENCE:0
DTSTAMP:20260423T131853Z
END:VEVENT
END:VCALENDAR
