BEGIN:VCALENDAR
VERSION:2.0
PRODID:-ABConcerts-events
METHOD:PUBLISH
BEGIN:VEVENT
TRANSP:OPAQUE
DTSTART:20171128T200000
DTEND:20171128T223000
SUMMARY:Mariam The Believer
LOCATION:AB Salon - zittend (Steenstraat 11\, 1000 Brussel)
DESCRIPTION:solo project of Wildbird & Peacedrums singer
URL;VALUE=URI:https://www.abconcerts.be/en/agenda/mariam-the-believer/a105J000001wdLdQAI
UID:ABConcerts_event_d7cffbc0-59a0-11eb-94ce-5254eb761bff
SEQUENCE:0
DTSTAMP:20260420T065045Z
END:VEVENT
END:VCALENDAR
