BEGIN:VCALENDAR
VERSION:2.0
PRODID:-ABConcerts-events
METHOD:PUBLISH
BEGIN:VEVENT
TRANSP:OPAQUE
DTSTART:20270202T190000
DTEND:20270202T223000
SUMMARY:Marguerite
LOCATION:AB Grote zaal (Anspachlaan 110\, 1000 Brussel)
DESCRIPTION:Rising star from Star Academy
URL;VALUE=URI:https://www.abconcerts.be/en/agenda/marguerite/a10Qw00000IGXIbIAP
UID:ABConcerts_event_1f139a00-e9e6-62a6-a24e-47487d1ebb31
SEQUENCE:0
DTSTAMP:20260425T172537Z
END:VEVENT
END:VCALENDAR
