BEGIN:VCALENDAR
VERSION:2.0
PRODID:-ABConcerts-events
METHOD:PUBLISH
BEGIN:VEVENT
TRANSP:OPAQUE
DTSTART:20130607T200000
DTEND:20130607T223000
SUMMARY:Lucinda Williams
LOCATION:AB Flex (Anspachlaan 110\, 1000 Brussel)
DESCRIPTION:The full title is: An Intimate Evening with Lucinda Williams\nfeaturing Doug Pettibone!She is finally back at the AB\,\nmore than six years after her last visit. Only now as a duo\nwith Doug Pettibone. And still in the wake of the fabled\n&#39;Blessed&#39; album.Lucinda Williams is an American\ncountry-rock singer from Louisiana (via the LA - Nashville\nroute) Like the best bourbon\, she is letting her career\ntake its time. Since the late &#39;70s barely 10 CDs. But\nsince &#39;Car Wheels On A Gravel Road&#39; in &#39;98\,\ngood for a few Grammy&#39;s and then right where she\nbelongs: on the best stages.From her website\, exclusive\nlive versions of her work are available. There is even a\nseparate section for &#39;set lists&#39; (over 20 tracks\neach!).Covered by the likes of Mary Chapin Carpenter and\nEmmylou Harris. And honoured by the lamented Vic Chestnutt\nin the song entitled &#39;Lucinda Williams&#39;\, yes\, on\nhis &#39;West Of Rome&#39; album. It doesn’t happen to\neveryone.Friday 7 June in the ABFlex: appointment with a\n&#39;grand dame&#39; of the Americana scene\, staple country\nfood for fans of blues\, rock and folk. &#39;Blessed&#39;\nare you who make it!
URL;VALUE=URI:https://www.abconcerts.be/en/agenda/lucinda-williams/a105J000001wdzfQAA
UID:ABConcerts_event_19c52368-599f-11eb-9d3d-5254eb761bff
SEQUENCE:0
DTSTAMP:20260419T180446Z
END:VEVENT
END:VCALENDAR
